BEGIN:VCALENDAR
VERSION:2.0
PRODID:-//hacksw/handcal//NONSGML v1.0//EN
BEGIN:VEVENT
SUMMARY:Simultane du Roy Rene
UID:008dee6f-0697-478b-8be1-694aba6ed311
DTSTART:20260225T130000Z
DTEND:20260225T173000Z
LOCATION:Localisation   
CATEGORIES:Sportif
STATUS:
URL;VALUE=URI:https://bergeracbridge.club.ffbridge.fr/evenements/2026/02/25/simultane-du-roy-rene-2408430
END:VEVENT
END:VCALENDAR
