BEGIN:VCALENDAR
VERSION:2.0
PRODID:-//hacksw/handcal//NONSGML v1.0//EN
BEGIN:VEVENT
SUMMARY:Tournoi de regularite
UID:c16264c8-eefc-448a-b576-40d383510d59
DTSTART:20260410T120000Z
DTEND:20260410T163000Z
LOCATION:Localisation   
CATEGORIES:Sportif
STATUS:
URL;VALUE=URI:https://bergeracbridge.club.ffbridge.fr/evenements/2026/04/10/tournoi-de-regularite-2436108
END:VEVENT
END:VCALENDAR
